BEGIN:VCALENDAR
VERSION:2.0
PRODID:-//Lake Champlain Maritime Museum - ECPv6.15.20//NONSGML v1.0//EN
CALSCALE:GREGORIAN
METHOD:PUBLISH
X-ORIGINAL-URL:https://www.lcmm.org
X-WR-CALDESC:Events for Lake Champlain Maritime Museum
REFRESH-INTERVAL;VALUE=DURATION:PT1H
X-Robots-Tag:noindex
X-PUBLISHED-TTL:PT1H
BEGIN:VTIMEZONE
TZID:America/New_York
BEGIN:DAYLIGHT
TZOFFSETFROM:-0500
TZOFFSETTO:-0400
TZNAME:EDT
DTSTART:20250309T070000
END:DAYLIGHT
BEGIN:STANDARD
TZOFFSETFROM:-0400
TZOFFSETTO:-0500
TZNAME:EST
DTSTART:20251102T060000
END:STANDARD
BEGIN:DAYLIGHT
TZOFFSETFROM:-0500
TZOFFSETTO:-0400
TZNAME:EDT
DTSTART:20260308T070000
END:DAYLIGHT
BEGIN:STANDARD
TZOFFSETFROM:-0400
TZOFFSETTO:-0500
TZNAME:EST
DTSTART:20261101T060000
END:STANDARD
BEGIN:DAYLIGHT
TZOFFSETFROM:-0500
TZOFFSETTO:-0400
TZNAME:EDT
DTSTART:20270314T070000
END:DAYLIGHT
BEGIN:STANDARD
TZOFFSETFROM:-0400
TZOFFSETTO:-0500
TZNAME:EST
DTSTART:20271107T060000
END:STANDARD
END:VTIMEZONE
BEGIN:VEVENT
DTSTART;TZID=America/New_York:20260425T130000
DTEND;TZID=America/New_York:20260425T140000
DTSTAMP:20260425T115304
CREATED:20251119T204706Z
LAST-MODIFIED:20251119T210638Z
UID:10001137-1777122000-1777125600@www.lcmm.org
SUMMARY:Traveling Book Club
DESCRIPTION:Explore the historic institutions of Addison County with a traveling winter book club! Between January and April we will discuss a book relevant to each historical institution we visit. Dive into American history with a book selected by Lake Champlain Maritime Museum\, cozy up to a welcoming novel at the Bixby\, contemplate social justice at the Rokeby\, and learn about new Vermonters at the Sheldon.  \n\n\n\nEach discussion will take place from 1-2PM on the last Saturday of each month as a hybrid meeting – come in person for tea and snacks or stay involved online via Zoom. Join all of the meetings or just one! More information and a Zoom link are available with free registration. \n\n\n\nItinerary & Book List \n\n\n\nJanuary 31 – Lake Champlain Maritime Museum Benedict Arnold’s Navy by James Nelson \n\n\n\nFebruary 28 – Rokeby Museum Heaven and Earth Grocery Store by James McBride \n\n\n\nMarch 28 – Bixby Memorial Free Library What You are Looking for is in the Library by Michiko Aoyama \n\n\n\nApril 25 – Henry Sheldon Museum Deep North: Stories of Somali Resettlement in Vermont edited by Brad Kessler \n\n\n\n\nRegister Here!
URL:https://www.lcmm.org/event/traveling-book-club-042526/
LOCATION:Henry Sheldon Museum\, 1 Park St\, Middlebury\, Vermont\, 05753\, United States
CATEGORIES:Community Events,Digital Event,Free Events
ATTACH;FMTTYPE=image/png:https://www.lcmm.org/wp-content/uploads/2025/11/Traveling-Book-Club-800x600-1.png
END:VEVENT
END:VCALENDAR