BEGIN:VCALENDAR
VERSION:2.0
PRODID:-//Lake Champlain Maritime Museum - ECPv6.15.20//NONSGML v1.0//EN
CALSCALE:GREGORIAN
METHOD:PUBLISH
X-WR-CALNAME:Lake Champlain Maritime Museum
X-ORIGINAL-URL:https://www.lcmm.org
X-WR-CALDESC:Events for Lake Champlain Maritime Museum
REFRESH-INTERVAL;VALUE=DURATION:PT1H
X-Robots-Tag:noindex
X-PUBLISHED-TTL:PT1H
BEGIN:VTIMEZONE
TZID:America/New_York
BEGIN:DAYLIGHT
TZOFFSETFROM:-0500
TZOFFSETTO:-0400
TZNAME:EDT
DTSTART:20230312T070000
END:DAYLIGHT
BEGIN:STANDARD
TZOFFSETFROM:-0400
TZOFFSETTO:-0500
TZNAME:EST
DTSTART:20231105T060000
END:STANDARD
BEGIN:DAYLIGHT
TZOFFSETFROM:-0500
TZOFFSETTO:-0400
TZNAME:EDT
DTSTART:20240310T070000
END:DAYLIGHT
BEGIN:STANDARD
TZOFFSETFROM:-0400
TZOFFSETTO:-0500
TZNAME:EST
DTSTART:20241103T060000
END:STANDARD
BEGIN:DAYLIGHT
TZOFFSETFROM:-0500
TZOFFSETTO:-0400
TZNAME:EDT
DTSTART:20250309T070000
END:DAYLIGHT
BEGIN:STANDARD
TZOFFSETFROM:-0400
TZOFFSETTO:-0500
TZNAME:EST
DTSTART:20251102T060000
END:STANDARD
END:VTIMEZONE
BEGIN:VEVENT
DTSTART;TZID=America/New_York:20241102T080000
DTEND;TZID=America/New_York:20241102T120000
DTSTAMP:20260422T061412
CREATED:20240301T010550Z
LAST-MODIFIED:20240722T205022Z
UID:10000762-1730534400-1730548800@www.lcmm.org
SUMMARY:Otter Creek Challenge Race
DESCRIPTION:An annual youth open-water rowing race hosted by Lake Champlain Maritime Museum right in the heart of Vergennes\, Vermont. Local high school and middle school rowing crews compete in a variety of heats\, racing from foot of the Vergennes Falls\, down Otter Creek\, and back. A festive race\, this event also includes an annual costume contest for crews\, individuals\, and coaches. Youth rowers register for this event through your team or as part of your fall season rowing registration. Please check with your coach if you are note sure.  \n\n\n\nThe public is welcome to come watch the race for free and cheer along participating teams from the park or along Otter Creek!
URL:https://www.lcmm.org/event/otter-creek-challenge-race-2024/
LOCATION:Vermont
CATEGORIES:Community Events,Free Events,Outdoors,Rowing,Youth Rowing
ATTACH;FMTTYPE=image/jpeg:https://www.lcmm.org/wp-content/uploads/2023/09/Otter-Creek-Challenge-Race-800x600-1.jpg
END:VEVENT
END:VCALENDAR