BEGIN:VCALENDAR
VERSION:2.0
PRODID:-//Lake Champlain Maritime Museum - ECPv6.15.20//NONSGML v1.0//EN
CALSCALE:GREGORIAN
METHOD:PUBLISH
X-ORIGINAL-URL:https://www.lcmm.org
X-WR-CALDESC:Events for Lake Champlain Maritime Museum
REFRESH-INTERVAL;VALUE=DURATION:PT1H
X-Robots-Tag:noindex
X-PUBLISHED-TTL:PT1H
BEGIN:VTIMEZONE
TZID:America/New_York
BEGIN:DAYLIGHT
TZOFFSETFROM:-0500
TZOFFSETTO:-0400
TZNAME:EDT
DTSTART:20220313T070000
END:DAYLIGHT
BEGIN:STANDARD
TZOFFSETFROM:-0400
TZOFFSETTO:-0500
TZNAME:EST
DTSTART:20221106T060000
END:STANDARD
BEGIN:DAYLIGHT
TZOFFSETFROM:-0500
TZOFFSETTO:-0400
TZNAME:EDT
DTSTART:20230312T070000
END:DAYLIGHT
BEGIN:STANDARD
TZOFFSETFROM:-0400
TZOFFSETTO:-0500
TZNAME:EST
DTSTART:20231105T060000
END:STANDARD
BEGIN:DAYLIGHT
TZOFFSETFROM:-0500
TZOFFSETTO:-0400
TZNAME:EDT
DTSTART:20240310T070000
END:DAYLIGHT
BEGIN:STANDARD
TZOFFSETFROM:-0400
TZOFFSETTO:-0500
TZNAME:EST
DTSTART:20241103T060000
END:STANDARD
END:VTIMEZONE
BEGIN:VEVENT
DTSTART;TZID=America/New_York:20230720T100000
DTEND;TZID=America/New_York:20230720T120000
DTSTAMP:20260422T051944
CREATED:20230509T205705Z
LAST-MODIFIED:20230731T190038Z
UID:10000577-1689847200-1689854400@www.lcmm.org
SUMMARY:ROV Shipwreck Tour
DESCRIPTION:**CANCELLED: Due to the impacts of recent flooding on lake conditions\, this event has been cancelled. If you were registered for this date\, further information has been sent to you via email. Future ROV tours are still on! A full list of dates can be found on our calendar.** \n\n\n\nExplore a shipwreck… without getting wet! There are hundreds of historic shipwrecks in Lake Champlain. Join us as we take a tour boat to the site of the Champlain II shipwreck and go for a “dive” using an underwater Remotely Operated Vehicle (ROV). Our robotic camera sends back real-time video to an on-board monitor as we share the vessel’s dramatic story. Don’t miss this incredible experience- for all ages!  \n\n\n\nWe will gather on the Museum green at 10:00 am and proceed to Basin Harbor as a group at 10:10 to begin the tour\, which will run from 10:30 to noon. The walk to Basin Harbor is approximately a half-mile on pavement\, and visitors may drive if needed. For accessibility requests and information please contact us by email at info@lcmm.org or by phone at 802-475-2022.
URL:https://www.lcmm.org/event/rov-shipwreck-tour-072023/
LOCATION:Lake Champlain Maritime Museum\, 4472 Basin Harbor Rd\, Vergennes\, VT\, 05491\, United States
CATEGORIES:Archaeology,On the Water,Outdoors,Shipwreck Tours,Talking Archaeology
ATTACH;FMTTYPE=image/png:https://www.lcmm.org/wp-content/uploads/2023/05/ROV-Shipwreck-Tour-B-800x600-1.png
END:VEVENT
BEGIN:VEVENT
DTSTART;TZID=America/New_York:20230713T100000
DTEND;TZID=America/New_York:20230713T120000
DTSTAMP:20260422T051944
CREATED:20230509T205604Z
LAST-MODIFIED:20230731T190045Z
UID:10000576-1689242400-1689249600@www.lcmm.org
SUMMARY:ROV Shipwreck Tour
DESCRIPTION:Explore a shipwreck… without getting wet! There are hundreds of historic shipwrecks in Lake Champlain. Join us as we take a tour boat to the site of the Champlain II shipwreck and go for a “dive” using an underwater Remotely Operated Vehicle (ROV). Our robotic camera sends back real-time video to an on-board monitor as we share the vessel’s dramatic story. Don’t miss this incredible experience- for all ages! \n\n\n\nWe will gather on the Museum green at 10:00 am and proceed to Basin Harbor as a group at 10:10 to begin the tour\, which will run from 10:30 to noon. The walk to Basin Harbor is approximately a half-mile on pavement\, and visitors may drive if needed. For accessibility requests and information please contact us by email at info@lcmm.org or by phone at 802-475-2022.  \n\n\n\nTickets are $25 for kids and $40 for adults.
URL:https://www.lcmm.org/event/rov-shipwreck-tour-071323/
LOCATION:Lake Champlain Maritime Museum\, 4472 Basin Harbor Rd\, Vergennes\, VT\, 05491\, United States
CATEGORIES:Archaeology,On the Water,Outdoors,Shipwreck Tours,Talking Archaeology
ATTACH;FMTTYPE=image/png:https://www.lcmm.org/wp-content/uploads/2023/05/ROV-Shipwreck-Tour-800x600-1.png
END:VEVENT
BEGIN:VEVENT
DTSTART;TZID=America/New_York:20230706T100000
DTEND;TZID=America/New_York:20230706T120000
DTSTAMP:20260422T051944
CREATED:20230509T205427Z
LAST-MODIFIED:20230731T190052Z
UID:10000575-1688637600-1688644800@www.lcmm.org
SUMMARY:ROV Shipwreck Tour
DESCRIPTION:Explore a shipwreck … without getting wet! There are hundreds of historic shipwrecks in Lake Champlain. Join us as we take a tour boat to the site of the Champlain II shipwreck and go for a “dive” using an underwater Remotely Operated Vehicle (ROV). Our robotic camera sends back real-time video to an on-board monitor as we share the vessel’s dramatic story. Don’t miss this incredible experience – for all ages! \n\n\n\nWe will gather on the Museum green at 10:00 and proceed to Basin Harbor as a group to begin the tour\, which will run from 10:30 to noon. For accessibility requests and information please contact us by email at info@lcmm.org or by phone at 802-475-2022. Tickets are $25 kids/$40 adults.
URL:https://www.lcmm.org/event/rov-shipwreck-tour-070623/
LOCATION:Lake Champlain Maritime Museum\, 4472 Basin Harbor Rd\, Vergennes\, VT\, 05491\, United States
CATEGORIES:Archaeology,On the Water,Outdoors,Shipwreck Tours,Talking Archaeology
ATTACH;FMTTYPE=image/jpeg:https://www.lcmm.org/wp-content/uploads/2023/04/Champlain-II-Highlights.Still009Resized800600.jpg
END:VEVENT
END:VCALENDAR