BEGIN:VCALENDAR
VERSION:2.0
PRODID:-//Lake Champlain Maritime Museum - ECPv6.15.20//NONSGML v1.0//EN
CALSCALE:GREGORIAN
METHOD:PUBLISH
X-WR-CALNAME:Lake Champlain Maritime Museum
X-ORIGINAL-URL:https://www.lcmm.org
X-WR-CALDESC:Events for Lake Champlain Maritime Museum
REFRESH-INTERVAL;VALUE=DURATION:PT1H
X-Robots-Tag:noindex
X-PUBLISHED-TTL:PT1H
BEGIN:VTIMEZONE
TZID:America/New_York
BEGIN:DAYLIGHT
TZOFFSETFROM:-0500
TZOFFSETTO:-0400
TZNAME:EDT
DTSTART:20250309T070000
END:DAYLIGHT
BEGIN:STANDARD
TZOFFSETFROM:-0400
TZOFFSETTO:-0500
TZNAME:EST
DTSTART:20251102T060000
END:STANDARD
BEGIN:DAYLIGHT
TZOFFSETFROM:-0500
TZOFFSETTO:-0400
TZNAME:EDT
DTSTART:20260308T070000
END:DAYLIGHT
BEGIN:STANDARD
TZOFFSETFROM:-0400
TZOFFSETTO:-0500
TZNAME:EST
DTSTART:20261101T060000
END:STANDARD
BEGIN:DAYLIGHT
TZOFFSETFROM:-0500
TZOFFSETTO:-0400
TZNAME:EDT
DTSTART:20270314T070000
END:DAYLIGHT
BEGIN:STANDARD
TZOFFSETFROM:-0400
TZOFFSETTO:-0500
TZNAME:EST
DTSTART:20271107T060000
END:STANDARD
END:VTIMEZONE
BEGIN:VEVENT
DTSTART;TZID=America/New_York:20260712T100000
DTEND;TZID=America/New_York:20260712T170000
DTSTAMP:20260425T121134
CREATED:20260312T130000Z
LAST-MODIFIED:20260401T181555Z
UID:10001166-1783850400-1783875600@www.lcmm.org
SUMMARY:Introduction to Dinghy Sailing for Teens 
DESCRIPTION:Calling all adventurous teens! Teens ages 13 to 16 can join us for a one-day introductory sailing class. You’ll learn about small boat dinghy sailing in the Museum’s custom fleet of Split Rock Sailing Dinghies. Basics include how to sail a small vessel\, how to right a capsized boat\, and how to get out on the water and guide your vessel.  \n\n\n\nThis is a class for beginners or anyone looking for a refresher class on how to sail. If you have sailing experience and want to take one of our dinghies out on the lake to enjoy\, check out our Open Sailing dates.  \n\n\n\nThe class will be held at the Museum in North Harbor. The class will have a break in the middle of the day for lunch. Please bring a packed lunch and plenty of water to stay hydrated throughout the day. Make sure to wear clothing you don’t mind getting wet and as well as adequate sun protection. The course will include practice of a capsize drill\, so expect to be in the water briefly.  \n\n\n\nDinghy Sailing for Teens is pay-what-you-can with a suggested rate of $125 for the course.  \n\n\n\n\nRegister for Introduction to Dinghy Sailing for Teens\n\n\n\n\nPlease note\, this event is subject to inclement weather and will be cancelled in the event of strong winds\, thunderstorms or heavy rain. If you need any special accommodations\, please contact our Sailing Programs Manager Matt Harrison\, matth@lcmm.org. 
URL:https://www.lcmm.org/event/introduction-to-dinghy-sailing-for-teens-061326/
LOCATION:North Harbor at Lake Champlain Maritime Museum\, 4472 Basin Harbor Road\, Vergennes\, Vermont\, 05491\, United States
CATEGORIES:Classes & Workshops,On the Water,Outdoors,Sailing
ATTACH;FMTTYPE=image/png:https://www.lcmm.org/wp-content/uploads/2025/05/Teen_Sailing_800x600.png
END:VEVENT
END:VCALENDAR