BEGIN:VCALENDAR
VERSION:2.0
PRODID:-//Lake Champlain Maritime Museum - ECPv6.15.20//NONSGML v1.0//EN
CALSCALE:GREGORIAN
METHOD:PUBLISH
X-WR-CALNAME:Lake Champlain Maritime Museum
X-ORIGINAL-URL:https://www.lcmm.org
X-WR-CALDESC:Events for Lake Champlain Maritime Museum
REFRESH-INTERVAL;VALUE=DURATION:PT1H
X-Robots-Tag:noindex
X-PUBLISHED-TTL:PT1H
BEGIN:VTIMEZONE
TZID:America/New_York
BEGIN:DAYLIGHT
TZOFFSETFROM:-0500
TZOFFSETTO:-0400
TZNAME:EDT
DTSTART:20250309T070000
END:DAYLIGHT
BEGIN:STANDARD
TZOFFSETFROM:-0400
TZOFFSETTO:-0500
TZNAME:EST
DTSTART:20251102T060000
END:STANDARD
BEGIN:DAYLIGHT
TZOFFSETFROM:-0500
TZOFFSETTO:-0400
TZNAME:EDT
DTSTART:20260308T070000
END:DAYLIGHT
BEGIN:STANDARD
TZOFFSETFROM:-0400
TZOFFSETTO:-0500
TZNAME:EST
DTSTART:20261101T060000
END:STANDARD
BEGIN:DAYLIGHT
TZOFFSETFROM:-0500
TZOFFSETTO:-0400
TZNAME:EDT
DTSTART:20270314T070000
END:DAYLIGHT
BEGIN:STANDARD
TZOFFSETFROM:-0400
TZOFFSETTO:-0500
TZNAME:EST
DTSTART:20271107T060000
END:STANDARD
END:VTIMEZONE
BEGIN:VEVENT
DTSTART;TZID=America/New_York:20260710T103000
DTEND;TZID=America/New_York:20260710T113000
DTSTAMP:20260425T121127
CREATED:20260327T155158Z
LAST-MODIFIED:20260327T155158Z
UID:10001274-1783679400-1783683000@www.lcmm.org
SUMMARY:Free Museum Tours
DESCRIPTION:Take a guided tour with a Museum expert through a sampler of exhibits to learn about the historical and archaeological heritage of Lake Champlain.   \n\n\n\nDepending on the group’s interest\, we will stop in exhibits which may include Fragments: Voices of the American Revolution on Lake Champlain\, the Stone Schoolhouse\, Hazelett Small Watercraft Center\, Underwater Archaeology: Diving into the Stories of People and Canal Boats on Lake Champlain\, the replica Revolutionary War gunboat Philadelphia II\, and the Museum’s replica 18th Century Blacksmith Forge.    \n\n\n\nMuseum tours are free to attend\, no registration required
URL:https://www.lcmm.org/event/free-museum-tours-071026/
LOCATION:Lake Champlain Maritime Museum\, 4472 Basin Harbor Rd\, Vergennes\, VT\, 05491\, United States
CATEGORIES:Free Events
ATTACH;FMTTYPE=image/jpeg:https://www.lcmm.org/wp-content/uploads/2024/07/Hazelett-KJLN-051824-006-low-res-scaled.jpg
END:VEVENT
BEGIN:VEVENT
DTSTART;TZID=America/New_York:20260710T110000
DTEND;TZID=America/New_York:20260710T120000
DTSTAMP:20260425T121127
CREATED:20260312T130000Z
LAST-MODIFIED:20260413T205721Z
UID:10001188-1783681200-1783684800@www.lcmm.org
SUMMARY:Storytime
DESCRIPTION:Looking for a fun and educational activity for your littlest sailor? Join us on Fridays at 11:00 for Lake Champlain Maritime Museum’s weekly storytime!   \n\n\n\nFamilies with young children (recommended age 5 and younger) are invited to gather with a Museum educator in our historic summer camp building\, the Roost\, as we read some of our favorite stories about Lake Champlain and summer adventures on the water out loud for all to enjoy. Stories will be read as a group and there will also be coloring pages and crafts available afterwards.   \n\n\n\nStorytime meets every Friday from May 29–October 16. This program is free to attend with no registration required.   \n\n\n\nThe Roost is situated off of a gravel path at the back of the Museum green. The ramp at the back of the building is accessible over grass. There is a high threshold at the entrance of the ramp. For accessibility requests please contact us by email at info@lcmm.org or by phone at 802-475-2022. 
URL:https://www.lcmm.org/event/storytime-071026/
LOCATION:The Roost\, Lake Champlain Maritime Museum\, 4472 Basin Harbor Road\, Vergennes\, Vermont\, 05491\, United States
CATEGORIES:Free Events
ATTACH;FMTTYPE=image/png:https://www.lcmm.org/wp-content/uploads/2026/03/Storytime-Web-Calendar-800x600-1.png
END:VEVENT
BEGIN:VEVENT
DTSTART;TZID=America/New_York:20260710T160000
DTEND;TZID=America/New_York:20260710T190000
DTSTAMP:20260425T121127
CREATED:20260327T185721Z
LAST-MODIFIED:20260327T185721Z
UID:10001324-1783699200-1783710000@www.lcmm.org
SUMMARY:Open Dinghy Sailing
DESCRIPTION:Get out on the water\, enjoy Lake Champlain\, and keep your sailing skills fresh! Open Dinghy Sailing offers weekly open hours and dinghy rentals for anyone with prior sailing experience to take one of the Museum’s custom Split-Rock Dinghies out for a turn on the lake. Friends\, family\, dates\, solo sailors – all are welcome to join us and sail away the afternoon or kick back after work!  \n\n\n\nOpen Dinghy Sailing hours are available on Friday afternoons starting at 4 pm. Boats are available to book in 90-minute increments and must be made by the boat and day. Open Dinghy Sailing is pay-what-you-can with a suggested rate of $40 per 90-minute booking. Please either register beforehand or arrive at the beginning of a timeslot (4 pm or 5:30 pm).   \n\n\n\nThe Museum’s Split-Rock Dinghies can fit a maximum of two adults\, or one adult and one child (under 13) each. Participants should have previous on-water experience in a sailboat or other small watercraft and be able to swim. Come prepared to sail\, wear attire that is okay to get wet. Open Dinghy Sailing is subject to inclement weather and will be cancelled in the event of strong winds\, thunderstorms\, or heavy rain.  \n\n\n\nContact us if you have any questions or if you need special accommodation at info@lcmm.org or 802-475-2022.  \n\n\n\nPlease note: We cannot offer an introduction to sailing at Open Dinghy Hours! Participants must have prior experience in a sailing vessel or small watercraft. Simple operating instructions for our custom dinghies will be provided and a safety boat will be present. Check our sailing calendar for upcoming classes and programs.  \n\n\n\n\nRegister Here!
URL:https://www.lcmm.org/event/open-dinghy-sailing-071026/
LOCATION:North Harbor at Lake Champlain Maritime Museum\, 4472 Basin Harbor Road\, Vergennes\, Vermont\, 05491\, United States
CATEGORIES:After Hours,On the Water,Outdoors,Sailing
ATTACH;FMTTYPE=image/png:https://www.lcmm.org/wp-content/uploads/2026/03/SplitRockDinghy_800x600.png
END:VEVENT
END:VCALENDAR