BEGIN:VCALENDAR
VERSION:2.0
PRODID:-//Lake Champlain Maritime Museum - ECPv6.15.20//NONSGML v1.0//EN
CALSCALE:GREGORIAN
METHOD:PUBLISH
X-WR-CALNAME:Lake Champlain Maritime Museum
X-ORIGINAL-URL:https://www.lcmm.org
X-WR-CALDESC:Events for Lake Champlain Maritime Museum
REFRESH-INTERVAL;VALUE=DURATION:PT1H
X-Robots-Tag:noindex
X-PUBLISHED-TTL:PT1H
BEGIN:VTIMEZONE
TZID:America/New_York
BEGIN:DAYLIGHT
TZOFFSETFROM:-0500
TZOFFSETTO:-0400
TZNAME:EDT
DTSTART:20250309T070000
END:DAYLIGHT
BEGIN:STANDARD
TZOFFSETFROM:-0400
TZOFFSETTO:-0500
TZNAME:EST
DTSTART:20251102T060000
END:STANDARD
BEGIN:DAYLIGHT
TZOFFSETFROM:-0500
TZOFFSETTO:-0400
TZNAME:EDT
DTSTART:20260308T070000
END:DAYLIGHT
BEGIN:STANDARD
TZOFFSETFROM:-0400
TZOFFSETTO:-0500
TZNAME:EST
DTSTART:20261101T060000
END:STANDARD
BEGIN:DAYLIGHT
TZOFFSETFROM:-0500
TZOFFSETTO:-0400
TZNAME:EDT
DTSTART:20270314T070000
END:DAYLIGHT
BEGIN:STANDARD
TZOFFSETFROM:-0400
TZOFFSETTO:-0500
TZNAME:EST
DTSTART:20271107T060000
END:STANDARD
END:VTIMEZONE
BEGIN:VEVENT
DTSTART;TZID=America/New_York:20260629T103000
DTEND;TZID=America/New_York:20260629T113000
DTSTAMP:20260425T121040
CREATED:20260327T155203Z
LAST-MODIFIED:20260327T155203Z
UID:10001269-1782729000-1782732600@www.lcmm.org
SUMMARY:Free Museum Tours
DESCRIPTION:Take a guided tour with a Museum expert through a sampler of exhibits to learn about the historical and archaeological heritage of Lake Champlain.   \n\n\n\nDepending on the group’s interest\, we will stop in exhibits which may include Fragments: Voices of the American Revolution on Lake Champlain\, the Stone Schoolhouse\, Hazelett Small Watercraft Center\, Underwater Archaeology: Diving into the Stories of People and Canal Boats on Lake Champlain\, the replica Revolutionary War gunboat Philadelphia II\, and the Museum’s replica 18th Century Blacksmith Forge.    \n\n\n\nMuseum tours are free to attend\, no registration required
URL:https://www.lcmm.org/event/free-museum-tours-062926/
LOCATION:Lake Champlain Maritime Museum\, 4472 Basin Harbor Rd\, Vergennes\, VT\, 05491\, United States
CATEGORIES:Free Events
ATTACH;FMTTYPE=image/jpeg:https://www.lcmm.org/wp-content/uploads/2024/07/Hazelett-KJLN-051824-006-low-res-scaled.jpg
END:VEVENT
BEGIN:VEVENT
DTSTART;TZID=America/New_York:20260629T161500
DTEND;TZID=America/New_York:20260629T181500
DTSTAMP:20260425T121040
CREATED:20260417T140750Z
LAST-MODIFIED:20260417T140750Z
UID:10001334-1782749700-1782756900@www.lcmm.org
SUMMARY:Lake History Cruise
DESCRIPTION:Join staff from Lake Champlain Maritime Museum\, in partnership with Whistling Man Schooner Company\, for an expert-led tour on the fascinating history of Lake Champlain out of Burlington. From hundreds of shipwrecks to historic naval battles\, prohibition smugglers to modern day nautical archaeology discoveries\, the lake has a rich and unique history. We will launch from the Burlington Waterfront to explore the lake on the Friend Ship\, a traditionally-rigged\, 31’ Friendship sloop. Don’t miss this unforgettable experience on Lake Champlain. \n\n\n\nIn every tour\, part of the ticket sales go directly to the Lake Champlain Maritime Museum to support their mission of connecting all people to Lake Champlain.  \n\n\n\nWhile sailing near the sites of iconic shipwrecks of Burlington Bay\, captain and crew will share stories of famous shipwrecks\, history of the various eras of human activity on Lake Champlain\, and current archaeology happening on the bottom of the lake. Key sites of interest will include the wreck sites of the General Butler\, the OJ Walker\, and the Burlington “Horse Ferry” wrecks\, and much more. Come prepared to share your interests and knowledge with the group! Visitors are also welcome to bring their own food and beverage along for the ride. \n\n\n\nSince this tour departs from the Burlington Waterfront\, we recommend that visitors allot additional time to find parking downtown. Transportation from the Museum to the Burlington Waterfront is not included. Additional information on parking and location can be found from Whistling Man here (link to Where We’re Located — Whistling Man Schooner Co.) \n\n\n\n\nBook Now
URL:https://www.lcmm.org/event/lake-history-cruise-062926/
LOCATION:Whistling Man Schooner Company\, 1 College Street\, Burlignton\, Vermont\, 05401\, United States
CATEGORIES:After Hours,On the Water,Outdoors,Sailing,Shipwreck Tours
ATTACH;FMTTYPE=image/png:https://www.lcmm.org/wp-content/uploads/2026/04/Whistling-Man-History-Cruises-800-x-600.png
END:VEVENT
END:VCALENDAR