BEGIN:VCALENDAR
VERSION:2.0
PRODID:-//Lake Champlain Maritime Museum - ECPv6.15.20//NONSGML v1.0//EN
CALSCALE:GREGORIAN
METHOD:PUBLISH
X-WR-CALNAME:Lake Champlain Maritime Museum
X-ORIGINAL-URL:https://www.lcmm.org
X-WR-CALDESC:Events for Lake Champlain Maritime Museum
REFRESH-INTERVAL;VALUE=DURATION:PT1H
X-Robots-Tag:noindex
X-PUBLISHED-TTL:PT1H
BEGIN:VTIMEZONE
TZID:America/New_York
BEGIN:DAYLIGHT
TZOFFSETFROM:-0500
TZOFFSETTO:-0400
TZNAME:EDT
DTSTART:20250309T070000
END:DAYLIGHT
BEGIN:STANDARD
TZOFFSETFROM:-0400
TZOFFSETTO:-0500
TZNAME:EST
DTSTART:20251102T060000
END:STANDARD
BEGIN:DAYLIGHT
TZOFFSETFROM:-0500
TZOFFSETTO:-0400
TZNAME:EDT
DTSTART:20260308T070000
END:DAYLIGHT
BEGIN:STANDARD
TZOFFSETFROM:-0400
TZOFFSETTO:-0500
TZNAME:EST
DTSTART:20261101T060000
END:STANDARD
BEGIN:DAYLIGHT
TZOFFSETFROM:-0500
TZOFFSETTO:-0400
TZNAME:EDT
DTSTART:20270314T070000
END:DAYLIGHT
BEGIN:STANDARD
TZOFFSETFROM:-0400
TZOFFSETTO:-0500
TZNAME:EST
DTSTART:20271107T060000
END:STANDARD
END:VTIMEZONE
BEGIN:VEVENT
DTSTART;TZID=America/New_York:20260624T103000
DTEND;TZID=America/New_York:20260624T113000
DTSTAMP:20260425T103445
CREATED:20260327T155204Z
LAST-MODIFIED:20260327T155204Z
UID:10001267-1782297000-1782300600@www.lcmm.org
SUMMARY:Free Museum Tours
DESCRIPTION:Take a guided tour with a Museum expert through a sampler of exhibits to learn about the historical and archaeological heritage of Lake Champlain.   \n\n\n\nDepending on the group’s interest\, we will stop in exhibits which may include Fragments: Voices of the American Revolution on Lake Champlain\, the Stone Schoolhouse\, Hazelett Small Watercraft Center\, Underwater Archaeology: Diving into the Stories of People and Canal Boats on Lake Champlain\, the replica Revolutionary War gunboat Philadelphia II\, and the Museum’s replica 18th Century Blacksmith Forge.    \n\n\n\nMuseum tours are free to attend\, no registration required
URL:https://www.lcmm.org/event/free-museum-tours-062426/
LOCATION:Lake Champlain Maritime Museum\, 4472 Basin Harbor Rd\, Vergennes\, VT\, 05491\, United States
CATEGORIES:Free Events
ATTACH;FMTTYPE=image/jpeg:https://www.lcmm.org/wp-content/uploads/2024/07/Hazelett-KJLN-051824-006-low-res-scaled.jpg
END:VEVENT
BEGIN:VEVENT
DTSTART;TZID=America/New_York:20260624T160000
DTEND;TZID=America/New_York:20260624T190000
DTSTAMP:20260425T103445
CREATED:20260327T185726Z
LAST-MODIFIED:20260327T185726Z
UID:10001172-1782316800-1782327600@www.lcmm.org
SUMMARY:Whaleboat Wednesdays
DESCRIPTION:Try something new on Lake Champlain – go sailing in a custom 29’ whaleboat!   \n\n\n\nThis is a great and one-of-a-kind experience for a group of family\, friends\, or adventurous coworkers to get out on Lake Champlain in a traditionally-rigged wooden boat. Combining rowing and sailing\, these vessels were built in the Museum’s boat shop and are an unforgettable way to experience the lake.   \n\n\n\nWhaleboats are available to book in 1.5-hour increments for yourself or a pair at a flexible $60 pay-what-you-can rate per boat rental.   \n\n\n\nAdvanced registration is strongly recommended to reserve seats for everyone in your party. Each whaleboat can accommodate groups of 5 people. You may book all five slots\, or the boat may include multiple parties. A museum skipper will accompany each departing whaleboat to instruct and steer. Come prepared to sail\, wear attire that is okay to get wet. Feel free to contact us if you have any questions or if you need special accommodation.  \n\n\n\nIf no whaleboats depart on select Wednesdays\, open sailing aboard the Museum’s Split Rock Dinghies will be offered instead.   \n\n\n\nPlease note: We cannot offer an introduction to sailing at Open Dinghy Hours! Participants must have prior experience in a sailing vessel or small watercraft. Simple operating instructions for our custom dinghies will be provided and a safety boat will be present. Check our sailing calendar for upcoming classes and programs.  \n\n\n\n\nRegister Here!
URL:https://www.lcmm.org/event/whaleboat-wednesdays-062426/
LOCATION:North Harbor at Lake Champlain Maritime Museum\, 4472 Basin Harbor Road\, Vergennes\, Vermont\, 05491\, United States
CATEGORIES:After Hours,On the Water,Outdoors,Sailing
ATTACH;FMTTYPE=image/png:https://www.lcmm.org/wp-content/uploads/2026/03/Whaleboat_800x600.png
END:VEVENT
END:VCALENDAR