BEGIN:VCALENDAR
VERSION:2.0
PRODID:-//Lake Champlain Maritime Museum - ECPv6.15.20//NONSGML v1.0//EN
CALSCALE:GREGORIAN
METHOD:PUBLISH
X-ORIGINAL-URL:https://www.lcmm.org
X-WR-CALDESC:Events for Lake Champlain Maritime Museum
REFRESH-INTERVAL;VALUE=DURATION:PT1H
X-Robots-Tag:noindex
X-PUBLISHED-TTL:PT1H
BEGIN:VTIMEZONE
TZID:America/New_York
BEGIN:DAYLIGHT
TZOFFSETFROM:-0500
TZOFFSETTO:-0400
TZNAME:EDT
DTSTART:20240310T070000
END:DAYLIGHT
BEGIN:STANDARD
TZOFFSETFROM:-0400
TZOFFSETTO:-0500
TZNAME:EST
DTSTART:20241103T060000
END:STANDARD
BEGIN:DAYLIGHT
TZOFFSETFROM:-0500
TZOFFSETTO:-0400
TZNAME:EDT
DTSTART:20250309T070000
END:DAYLIGHT
BEGIN:STANDARD
TZOFFSETFROM:-0400
TZOFFSETTO:-0500
TZNAME:EST
DTSTART:20251102T060000
END:STANDARD
BEGIN:DAYLIGHT
TZOFFSETFROM:-0500
TZOFFSETTO:-0400
TZNAME:EDT
DTSTART:20260308T070000
END:DAYLIGHT
BEGIN:STANDARD
TZOFFSETFROM:-0400
TZOFFSETTO:-0500
TZNAME:EST
DTSTART:20261101T060000
END:STANDARD
END:VTIMEZONE
BEGIN:VEVENT
DTSTART;TZID=America/New_York:20250920T100000
DTEND;TZID=America/New_York:20250920T150000
DTSTAMP:20260423T073716
CREATED:20250521T190028Z
LAST-MODIFIED:20250521T190028Z
UID:10001000-1758362400-1758380400@www.lcmm.org
SUMMARY:Philadelphia II Open Hours
DESCRIPTION:Soldiers in the Revolutionary War not only fought on boats\, they also often lived on them for months. Step aboard the Museum’s replica of the Revolutionary War gunboat Philadelphia to explore their living and working conditions\, understand the mechanics of the vessel\, and even row the oars!  \n\n\n\nAccessibility: The Philadelphia II is currently on the Museum Green. There is a staircase leading up to the boat\, and the boat is in the middle of a grassy area. However\, the rigging and cannon from the Philadelphia II are in the surrounding lawn\, and our staff would be happy to talk about the vessel as well as display props on the lawn.
URL:https://www.lcmm.org/event/philadelphia-ii-open-hours-18/
LOCATION:Lake Champlain Maritime Museum\, 4472 Basin Harbor Rd\, Vergennes\, VT\, 05491\, United States
CATEGORIES:Free Events,Outdoors
ATTACH;FMTTYPE=image/jpeg:https://www.lcmm.org/wp-content/uploads/2023/06/Web-Calendar-Featured-Image_Philadelphia-II-P2.jpg
END:VEVENT
BEGIN:VEVENT
DTSTART;TZID=America/New_York:20250920T100000
DTEND;TZID=America/New_York:20250920T170000
DTSTAMP:20260423T073716
CREATED:20250520T134826Z
LAST-MODIFIED:20250814T191632Z
UID:10001004-1758362400-1758387600@www.lcmm.org
SUMMARY:Introduction to Dinghy Sailing for Teens
DESCRIPTION:Calling all adventurous teens! Teens can join us for a one-day introductory sailing class. You’ll learn about small boat dinghy sailing in the Museum’s custom fleet of Split Rock Sailing Dinghies. Basics include how to sail a small vessel\, how to right a capsized boat\, and how to get out on the water and guide your vessel. \n\n\n\nThis is a class for beginners or anyone looking for a refresher class on how to sail. If you have sailing experience and want to take one of our dinghies out on the lake to enjoy\, check out our Weekend Sailing dates.  \n\n\n\nThe class will be held at the Museum in North Harbor. The class will have a break in the middle of the day for lunch. Please bring a packed lunch and plenty of water to stay hydrated throughout the day. Make sure to wear clothing you don’t mind getting wet and as well as adequate sun protection. The course will include practice of a capsize drill\, so expect to be in the water briefly.  \n\n\n\nDinghy Sailing for Teens is pay-what-you-can with a suggested rate of $125 for the course.   \n\n\n\nPlease note\, this event is subject to inclement weather and will be cancelled in the event of strong winds\, thunderstorms or heavy rain. If you need any special accommodations\, please contact our Sailing Programs Manager Matt Harrison\, matth@lcmm.org. \n\n\n\n\nRegister for Sailing Class for Teens
URL:https://www.lcmm.org/event/introduction-to-dinghy-sailing-for-teens-09-20-2025/
LOCATION:North Harbor at Lake Champlain Maritime Museum\, 4472 Basin Harbor Road\, Vergennes\, Vermont\, 05491\, United States
CATEGORIES:After Hours,On the Water,Outdoors,Sailing
ATTACH;FMTTYPE=image/png:https://www.lcmm.org/wp-content/uploads/2025/05/Teen_Sailing_800x600.png
END:VEVENT
BEGIN:VEVENT
DTSTART;TZID=America/New_York:20250920T120000
DTEND;TZID=America/New_York:20250920T140000
DTSTAMP:20260423T073716
CREATED:20250918T151812Z
LAST-MODIFIED:20250918T153814Z
UID:10001129-1758369600-1758376800@www.lcmm.org
SUMMARY:Instrument Petting Zoo
DESCRIPTION:Ever wanted to learn an instrument but never got your hands on one? Come to the Museum to try out the 15+ instruments in the Vermont Folklife Center’s Instrument Petting Zoo! Who knows\, maybe you will leave with a band! \n\n\n\nThe Instrument Petting Zoo is supported by many individuals\, families and organizations – those who donate and maintain the instruments\, the Mockingbird Foundation\, Mandolin Instruments\, Vermont Violins\, Vermont Folklife Center\, the Leslie A. and Harold E. Greene Fiddle Loan Program\, Bean’s Violins\, the Integrated Arts Academy\, installation sponsors and volunteers\, and many others. The Instrument Petting Zoo originated as a program of Young Tradition Vermont. \n\n\n\nThis event is free to attend\, no reservation needed. \n\n\n\nLearn more here\, www.VTfolklife.org/instrument-petting-zoo
URL:https://www.lcmm.org/event/instrument-petting-zoo-9-20-25-2/
LOCATION:Lake Champlain Maritime Museum\, 4472 Basin Harbor Rd\, Vergennes\, VT\, 05491\, United States
CATEGORIES:Community Events,Free Events,Outdoors
ATTACH;FMTTYPE=image/png:https://www.lcmm.org/wp-content/uploads/2025/08/IPZ_800x600.png
END:VEVENT
END:VCALENDAR