BEGIN:VCALENDAR
VERSION:2.0
PRODID:-//Lake Champlain Maritime Museum - ECPv6.15.20//NONSGML v1.0//EN
CALSCALE:GREGORIAN
METHOD:PUBLISH
X-ORIGINAL-URL:https://www.lcmm.org
X-WR-CALDESC:Events for Lake Champlain Maritime Museum
REFRESH-INTERVAL;VALUE=DURATION:PT1H
X-Robots-Tag:noindex
X-PUBLISHED-TTL:PT1H
BEGIN:VTIMEZONE
TZID:America/New_York
BEGIN:DAYLIGHT
TZOFFSETFROM:-0500
TZOFFSETTO:-0400
TZNAME:EDT
DTSTART:20240310T070000
END:DAYLIGHT
BEGIN:STANDARD
TZOFFSETFROM:-0400
TZOFFSETTO:-0500
TZNAME:EST
DTSTART:20241103T060000
END:STANDARD
BEGIN:DAYLIGHT
TZOFFSETFROM:-0500
TZOFFSETTO:-0400
TZNAME:EDT
DTSTART:20250309T070000
END:DAYLIGHT
BEGIN:STANDARD
TZOFFSETFROM:-0400
TZOFFSETTO:-0500
TZNAME:EST
DTSTART:20251102T060000
END:STANDARD
BEGIN:DAYLIGHT
TZOFFSETFROM:-0500
TZOFFSETTO:-0400
TZNAME:EDT
DTSTART:20260308T070000
END:DAYLIGHT
BEGIN:STANDARD
TZOFFSETFROM:-0400
TZOFFSETTO:-0500
TZNAME:EST
DTSTART:20261101T060000
END:STANDARD
END:VTIMEZONE
BEGIN:VEVENT
DTSTART;TZID=America/New_York:20250904T100000
DTEND;TZID=America/New_York:20250904T120000
DTSTAMP:20260419T092010
CREATED:20250402T145546Z
LAST-MODIFIED:20250414T152146Z
UID:10000931-1756980000-1756987200@www.lcmm.org
SUMMARY:Shipwreck Tour
DESCRIPTION:Did you know there are hundreds of historic shipwrecks in Lake Champlain? Join us for a special tour and dive into this exciting underwater history\, without getting wet! This scenic boat tour will take you to the sites of some famous local shipwrecks as Museum experts recount their dramatic stories. Watch underwater footage of shipwrecks from the Museum’s archaeology team and underwater Remote Operated Vehicles (ROVs)\, learn about our lake’s unique geology and history\, talk with Museum experts\, and get a first-hand look at the nature and animals that call these parts of the lake home including eagles\, fish\, and more. An incredible experience for all ages! \n\n\n\nOn the day of your tour\, gather on the Museum green at 10:00 am and proceed to the dock at Basin Harbor as a group at 10:10 to begin the tour\, which will run from 10:30 am to 12:00 pm. The walk to Basin Harbor is approximately a half-mile on pavement\, and visitors are welcome to drive if needed. For accessibility requests and information please contact us by email at info@lcmm.org or by phone at 802-475-2022. In the event of cancellation due to severe weather\, we will notify you in advance and tickets will be refunded or transferred to an open date. \n\n\n\nTickets are $25 for kids and $45 for adults. \n\n\n\n\nPurchase Shipwreck Tour Tickets
URL:https://www.lcmm.org/event/shipwreck-tour-090425/
LOCATION:Lake Champlain Maritime Museum\, 4472 Basin Harbor Rd\, Vergennes\, VT\, 05491\, United States
CATEGORIES:Archaeology,On the Water,Outdoors,Shipwreck Tours
ATTACH;FMTTYPE=image/png:https://www.lcmm.org/wp-content/uploads/2025/04/Shipwreck-Tour-Web-Calendar-Featured-Image-800x600-1.png
END:VEVENT
BEGIN:VEVENT
DTSTART;TZID=America/New_York:20250904T190000
DTEND;TZID=America/New_York:20250904T200000
DTSTAMP:20260419T092010
CREATED:20250520T133659Z
LAST-MODIFIED:20250722T190720Z
UID:10000996-1757012400-1757016000@www.lcmm.org
SUMMARY:Talking Archaeology: Archaeology of Canal Boats
DESCRIPTION:History\, artifacts\, and shipwrecks lie in the depths of Lake Champlain\, waiting to share their secrets and stories with the underwater archaeologists who dive down to explore. In 2025\, Lake Champlain Maritime Museum is excited to introduce Talking Archaeology\, a free evening talk series with Museum archaeologists and researchers. Learn about local history\, archaeological discoveries\, artifacts\, and the unique stories that our team has uncovered over four decades of nautical archaeology and research.  \n\n\n\nJoin us on September 4 for our fifth installment of the series: Archaeology of Canal Boats: Discovery Canal Boat Typology with Taylor Picard\, Staff Archaeologist. \n\n\n\nThis talk will be held in the auditorium of the Hoehl Family Education and Visitor Center. It will last approximately 30-45 minutes with time for Q&A afterwards. Talking Archaeology is free to attend with registration. Courtesy of our friends at Shacksbury\, all attendees 21+ also get a free cider to enjoy during the talk! \n\n\n\n\nRegister Here!
URL:https://www.lcmm.org/event/talking-archaeology-archaeology-of-canal-boats/
LOCATION:Hoehl Family Visitor and Education Center Auditorium at Lake Champlain Maritime Museum\, 4472 Basin Harbor Road\, Vergennes\, Vermont\, 05491\, United States
CATEGORIES:Archaeology,Free Events,Talking Archaeology
ATTACH;FMTTYPE=image/png:https://www.lcmm.org/wp-content/uploads/2025/05/Talking-Archaeology-Canal-Boats-Web-Calendar-Featured-Image-800x600-1.png
END:VEVENT
END:VCALENDAR