BEGIN:VCALENDAR
VERSION:2.0
PRODID:-//Lake Champlain Maritime Museum - ECPv6.15.20//NONSGML v1.0//EN
CALSCALE:GREGORIAN
METHOD:PUBLISH
X-ORIGINAL-URL:https://www.lcmm.org
X-WR-CALDESC:Events for Lake Champlain Maritime Museum
REFRESH-INTERVAL;VALUE=DURATION:PT1H
X-Robots-Tag:noindex
X-PUBLISHED-TTL:PT1H
BEGIN:VTIMEZONE
TZID:America/New_York
BEGIN:DAYLIGHT
TZOFFSETFROM:-0500
TZOFFSETTO:-0400
TZNAME:EDT
DTSTART:20240310T070000
END:DAYLIGHT
BEGIN:STANDARD
TZOFFSETFROM:-0400
TZOFFSETTO:-0500
TZNAME:EST
DTSTART:20241103T060000
END:STANDARD
BEGIN:DAYLIGHT
TZOFFSETFROM:-0500
TZOFFSETTO:-0400
TZNAME:EDT
DTSTART:20250309T070000
END:DAYLIGHT
BEGIN:STANDARD
TZOFFSETFROM:-0400
TZOFFSETTO:-0500
TZNAME:EST
DTSTART:20251102T060000
END:STANDARD
BEGIN:DAYLIGHT
TZOFFSETFROM:-0500
TZOFFSETTO:-0400
TZNAME:EDT
DTSTART:20260308T070000
END:DAYLIGHT
BEGIN:STANDARD
TZOFFSETFROM:-0400
TZOFFSETTO:-0500
TZNAME:EST
DTSTART:20261101T060000
END:STANDARD
END:VTIMEZONE
BEGIN:VEVENT
DTSTART;TZID=America/New_York:20250717T100000
DTEND;TZID=America/New_York:20250717T120000
DTSTAMP:20260419T092454
CREATED:20250402T160320Z
LAST-MODIFIED:20250414T152701Z
UID:10000924-1752746400-1752753600@www.lcmm.org
SUMMARY:Shipwreck Tour
DESCRIPTION:Did you know there are hundreds of historic shipwrecks in Lake Champlain? Join us for a special tour and dive into this exciting underwater history\, without getting wet! This scenic boat tour will take you to the sites of some famous local shipwrecks as Museum experts recount their dramatic stories. Watch underwater footage of shipwrecks from the Museum’s archaeology team and underwater Remote Operated Vehicles (ROVs)\, learn about our lake’s unique geology and history\, talk with Museum experts\, and get a first-hand look at the nature and animals that call these parts of the lake home including eagles\, fish\, and more. An incredible experience for all ages! \n\n\n\nOn the day of your tour\, gather on the Museum green at 10:00 am and proceed to the dock at Basin Harbor as a group at 10:10 to begin the tour\, which will run from 10:30 am to 12:00 pm. The walk to Basin Harbor is approximately a half-mile on pavement\, and visitors are welcome to drive if needed. For accessibility requests and information please contact us by email at info@lcmm.org or by phone at 802-475-2022. In the event of cancellation due to severe weather\, we will notify you in advance and tickets will be refunded or transferred to an open date. \n\n\n\nTickets are $25 for kids and $45 for adults. \n\n\n\n\nPurchase Shipwreck Tour Tickets
URL:https://www.lcmm.org/event/shipwreck-tour-071725/
LOCATION:Lake Champlain Maritime Museum\, 4472 Basin Harbor Rd\, Vergennes\, VT\, 05491\, United States
CATEGORIES:Archaeology,On the Water,Outdoors,Shipwreck Tours
ATTACH;FMTTYPE=image/png:https://www.lcmm.org/wp-content/uploads/2025/04/Shipwreck-Tour-Web-Calendar-Featured-Image-800x600-1.png
END:VEVENT
BEGIN:VEVENT
DTSTART;TZID=America/New_York:20250717T130000
DTEND;TZID=America/New_York:20250717T142500
DTSTAMP:20260419T092454
CREATED:20250623T192313Z
LAST-MODIFIED:20250623T192314Z
UID:10001019-1752757200-1752762300@www.lcmm.org
SUMMARY:Stewarding Our Watershed: Understanding the Threats to the Lake Champlain Watershed
DESCRIPTION:The Lake Champlain Watershed is more than 8\,000 square miles and is defined by any land that drains into Lake Champlain. Pollutants\, invasive species\, and microplastics are just a few of the threats to the health of our watershed. Stop by the Clean Water Act Exhibit\, on the green\, to learn about the threats to the Lake Champlain Watershed\, the species impacted by these threats\, and how we can be better stewards of the Lake Champlain Watershed!  \n\n\n\nThis event is free to attend\, no registration required. \n\n\n\nA gradual ramp leads up to this exhibit making it accessible for all wheels.
URL:https://www.lcmm.org/event/stewarding-our-watershed-071725/
LOCATION:Lake Champlain Maritime Museum\, 4472 Basin Harbor Rd\, Vergennes\, VT\, 05491\, United States
CATEGORIES:Free Events,Outdoors
ATTACH;FMTTYPE=image/png:https://www.lcmm.org/wp-content/uploads/2025/06/Watershed-Steward-Web-Calendar-Featured-Image-800x600-1.png
END:VEVENT
BEGIN:VEVENT
DTSTART;TZID=America/New_York:20250717T140000
DTEND;TZID=America/New_York:20250717T150000
DTSTAMP:20260419T092454
CREATED:20250704T143316Z
LAST-MODIFIED:20250704T143317Z
UID:10001083-1752760800-1752764400@www.lcmm.org
SUMMARY:Indigenous Experiences in the Revolutionary War
DESCRIPTION:Indigenous people have lived in the Champlain Valley since time immemorial\, and the American Revolutionary War brought many changes to their homelands and lifestyles. In this free\, hour-long program\, we’ll talk about the complicated relationships that the Six Nations\, Abenakis\, and Mohicans each had with the British and American sides\, and we’ll explore the Revolutionary War with a focus on Indigenous experiences. \n\n\n\nAccessibility: The Schoolhouse Gallery has a wheelchair accessible ramp on the side of the building that points towards the Visitor Center. You can get to the building using either gravel paths or grass\, and if you want to minimize how much time you have to spend on uneven terrain\, you can enter through the Visitor Center right from the parking lot and exit through its other entrance. This event can also be held in the Visitor Center upon request by emailing museumeducator@lcmm.org at least 24 hours before the event.
URL:https://www.lcmm.org/event/indigenous-experiences-in-the-revolutionary-war-071725/
LOCATION:Lake Champlain Maritime Museum\, 4472 Basin Harbor Rd\, Vergennes\, VT\, 05491\, United States
CATEGORIES:Free Events
ATTACH;FMTTYPE=image/jpeg:https://www.lcmm.org/wp-content/uploads/2023/07/Blog-800x600_Indigenous-Experiences-in-Rev-War.jpg
END:VEVENT
END:VCALENDAR