BEGIN:VCALENDAR
VERSION:2.0
PRODID:-//Lake Champlain Maritime Museum - ECPv6.15.20//NONSGML v1.0//EN
CALSCALE:GREGORIAN
METHOD:PUBLISH
X-WR-CALNAME:Lake Champlain Maritime Museum
X-ORIGINAL-URL:https://www.lcmm.org
X-WR-CALDESC:Events for Lake Champlain Maritime Museum
REFRESH-INTERVAL;VALUE=DURATION:PT1H
X-Robots-Tag:noindex
X-PUBLISHED-TTL:PT1H
BEGIN:VTIMEZONE
TZID:America/New_York
BEGIN:DAYLIGHT
TZOFFSETFROM:-0500
TZOFFSETTO:-0400
TZNAME:EDT
DTSTART:20240310T070000
END:DAYLIGHT
BEGIN:STANDARD
TZOFFSETFROM:-0400
TZOFFSETTO:-0500
TZNAME:EST
DTSTART:20241103T060000
END:STANDARD
BEGIN:DAYLIGHT
TZOFFSETFROM:-0500
TZOFFSETTO:-0400
TZNAME:EDT
DTSTART:20250309T070000
END:DAYLIGHT
BEGIN:STANDARD
TZOFFSETFROM:-0400
TZOFFSETTO:-0500
TZNAME:EST
DTSTART:20251102T060000
END:STANDARD
BEGIN:DAYLIGHT
TZOFFSETFROM:-0500
TZOFFSETTO:-0400
TZNAME:EDT
DTSTART:20260308T070000
END:DAYLIGHT
BEGIN:STANDARD
TZOFFSETFROM:-0400
TZOFFSETTO:-0500
TZNAME:EST
DTSTART:20261101T060000
END:STANDARD
END:VTIMEZONE
BEGIN:VEVENT
DTSTART;TZID=America/New_York:20250627T160000
DTEND;TZID=America/New_York:20250627T190000
DTSTAMP:20260423T061348
CREATED:20250414T145512Z
LAST-MODIFIED:20250522T174828Z
UID:10000960-1751040000-1751050800@www.lcmm.org
SUMMARY:Open Dinghy Sailing
DESCRIPTION:Get out on the water\, enjoy Lake Champlain\, and keep your sailing skills fresh! Open Dinghy Sailing offers weekly open hours and dinghy rentals for anyone with prior sailing experience to take one of the Museum’s custom Split-Rock Dinghies out for a turn on the lake. Friends\, family\, dates\, solo sailors – all are welcome to join us and sail away the afternoon or kick back after work!   \n\n\n\nOpen Dinghy Sailing hours are available on Wednesday and Friday afternoons from 4–7 pm. Boats are available to book in 90-minute increments and must be made by the boat and day. Open Dinghy Sailing is pay-what-you-can with a suggested rate of $40 per 90-minute booking. \n\n\n\nThe Museum’s Split-Rock Dinghies can fit a maximum of two adults\, or one adult and one child (under 13) each. Participants should have previous on-water experience in a sailboat or other small watercraft and be able to swim. Come prepared to sail\, wear attire that is okay to get wet. Open Dinghy Sailing is subject to inclement weather and will be cancelled in the event of strong winds\, thunderstorms\, or heavy rain. \n\n\n\nContact us if you have any questions or if you need special accommodation at info@lcmm.org or 802-475-2022. \n\n\n\n \n\n\n\n\nRegister for Open Dinghy Sailing\n\n\n\n\nPlease note: We cannot offer an introduction to sailing at Open Dinghy Hours! Participants must have prior experience in a sailing vessel or small watercraft. Simple operating instructions for our custom dinghies will be provided and a safety boat will be present. Check our sailing calendar for upcoming classes and programs.
URL:https://www.lcmm.org/event/open-dinghy-sailing-062725/
LOCATION:Lake Champlain Maritime Museum\, 4472 Basin Harbor Rd\, Vergennes\, VT\, 05491\, United States
CATEGORIES:After Hours,On the Water,Outdoors,Sailing
ATTACH;FMTTYPE=image/png:https://www.lcmm.org/wp-content/uploads/2024/06/Adult-Sailing-Web-Calendar-Featured-Image-800x600-1.png
END:VEVENT
END:VCALENDAR