BEGIN:VCALENDAR
VERSION:2.0
PRODID:-//Lake Champlain Maritime Museum - ECPv6.15.20//NONSGML v1.0//EN
CALSCALE:GREGORIAN
METHOD:PUBLISH
X-WR-CALNAME:Lake Champlain Maritime Museum
X-ORIGINAL-URL:https://www.lcmm.org
X-WR-CALDESC:Events for Lake Champlain Maritime Museum
REFRESH-INTERVAL;VALUE=DURATION:PT1H
X-Robots-Tag:noindex
X-PUBLISHED-TTL:PT1H
BEGIN:VTIMEZONE
TZID:America/New_York
BEGIN:DAYLIGHT
TZOFFSETFROM:-0500
TZOFFSETTO:-0400
TZNAME:EDT
DTSTART:20230312T070000
END:DAYLIGHT
BEGIN:STANDARD
TZOFFSETFROM:-0400
TZOFFSETTO:-0500
TZNAME:EST
DTSTART:20231105T060000
END:STANDARD
BEGIN:DAYLIGHT
TZOFFSETFROM:-0500
TZOFFSETTO:-0400
TZNAME:EDT
DTSTART:20240310T070000
END:DAYLIGHT
BEGIN:STANDARD
TZOFFSETFROM:-0400
TZOFFSETTO:-0500
TZNAME:EST
DTSTART:20241103T060000
END:STANDARD
BEGIN:DAYLIGHT
TZOFFSETFROM:-0500
TZOFFSETTO:-0400
TZNAME:EDT
DTSTART:20250309T070000
END:DAYLIGHT
BEGIN:STANDARD
TZOFFSETFROM:-0400
TZOFFSETTO:-0500
TZNAME:EST
DTSTART:20251102T060000
END:STANDARD
END:VTIMEZONE
BEGIN:VEVENT
DTSTART;TZID=America/New_York:20240905T100000
DTEND;TZID=America/New_York:20240905T120000
DTSTAMP:20260423T061319
CREATED:20240409T215721Z
LAST-MODIFIED:20240409T215724Z
UID:10000786-1725530400-1725537600@www.lcmm.org
SUMMARY:Shipwreck Tour
DESCRIPTION:Explore a shipwreck… without getting wet! There are hundreds of historic shipwrecks in Lake Champlain. Join us as we take a tour boat to the site of the Champlain II shipwreck and go for a “dive” using an underwater Remotely Operated Vehicle (ROV). Our robotic camera sends back real-time video to an on-board monitor as we share the vessel’s dramatic story. Don’t miss this incredible experience- for all ages! \n\n\n\nWe will gather on the Museum green at 10:00 and proceed to Basin Harbor as a group at 10:10 to begin the tour\, which will run from 10:30 to noon. The walk to Basin Harbor is approximately a half-mile on pavement\, and visitors are welcome to drive if needed. For accessibility requests and information please contact us by email at info@lcmm.org or by phone at 802-475-2022.  \n\n\n\nTickets are $25 for kids and $40 for adults.  \n\n\n\nPlease note that due to weather conditions\, the lake level may fluctuate. In higher water conditions\, the lake is perfectly safe to enjoy by boat\, but our small ROV may not be able to dive. No matter the lake level\, you will still be able to go on a boat tour\, see shipwreck footage\, and hear exciting stories! In the event of cancellation due to severe weather\, we will notify you in advance and tickets will be refunded or transferred to an open date. \n\n\n\n\nRegister Here
URL:https://www.lcmm.org/event/shipwreck-tour-10/
LOCATION:Lake Champlain Maritime Museum\, 4472 Basin Harbor Rd\, Vergennes\, VT\, 05491\, United States
CATEGORIES:Archaeology,On the Water,Outdoors,Shipwreck Tours
ATTACH;FMTTYPE=image/png:https://www.lcmm.org/wp-content/uploads/2023/06/ROV-Tour-800x600-1.png
END:VEVENT
END:VCALENDAR