BEGIN:VCALENDAR
VERSION:2.0
PRODID:-//Lake Champlain Maritime Museum - ECPv6.15.20//NONSGML v1.0//EN
CALSCALE:GREGORIAN
METHOD:PUBLISH
X-ORIGINAL-URL:https://www.lcmm.org
X-WR-CALDESC:Events for Lake Champlain Maritime Museum
REFRESH-INTERVAL;VALUE=DURATION:PT1H
X-Robots-Tag:noindex
X-PUBLISHED-TTL:PT1H
BEGIN:VTIMEZONE
TZID:America/New_York
BEGIN:DAYLIGHT
TZOFFSETFROM:-0500
TZOFFSETTO:-0400
TZNAME:EDT
DTSTART:20230312T070000
END:DAYLIGHT
BEGIN:STANDARD
TZOFFSETFROM:-0400
TZOFFSETTO:-0500
TZNAME:EST
DTSTART:20231105T060000
END:STANDARD
BEGIN:DAYLIGHT
TZOFFSETFROM:-0500
TZOFFSETTO:-0400
TZNAME:EDT
DTSTART:20240310T070000
END:DAYLIGHT
BEGIN:STANDARD
TZOFFSETFROM:-0400
TZOFFSETTO:-0500
TZNAME:EST
DTSTART:20241103T060000
END:STANDARD
BEGIN:DAYLIGHT
TZOFFSETFROM:-0500
TZOFFSETTO:-0400
TZNAME:EDT
DTSTART:20250309T070000
END:DAYLIGHT
BEGIN:STANDARD
TZOFFSETFROM:-0400
TZOFFSETTO:-0500
TZNAME:EST
DTSTART:20251102T060000
END:STANDARD
END:VTIMEZONE
BEGIN:VEVENT
DTSTART;TZID=America/New_York:20240629T100000
DTEND;TZID=America/New_York:20240630T160000
DTSTAMP:20260422T062832
CREATED:20240409T161000Z
LAST-MODIFIED:20240409T161003Z
UID:10000788-1719655200-1719763200@www.lcmm.org
SUMMARY:Abenaki Heritage Weekend
DESCRIPTION:Join Vermont’s Native American community for Abenaki Heritage Weekend and Arts Marketplace on June 29-30 at Lake Champlain Maritime Museum and explore Abenaki perspectives on life in the Champlain Valley. Activities include storytelling\, craft demonstrations\, drumming\, singing\, and more. Bring a picnic basket for your lunch. Presented by the Vermont Abenaki Artists Association\, this event brings together citizens of the Elnu\, Nulhegan\, Koasek\, and Missisquoi Abenaki Tribes. \n\n\n\nAbenaki Heritage Weekend is presented by the Vermont Abenaki Artists Association and the Abenaki Arts and Education Center and hosted by the Lake Champlain Maritime Museum. \n\n\n\nLearn more at the Vermont Abenaki Artists Association website.
URL:https://www.lcmm.org/event/abenaki-heritage-weekend/
LOCATION:Lake Champlain Maritime Museum\, 4472 Basin Harbor Rd\, Vergennes\, VT\, 05491\, United States
CATEGORIES:Community Events,Free Events,Outdoors
ATTACH;FMTTYPE=image/png:https://www.lcmm.org/wp-content/uploads/2019/08/Abenaki-Heritage-Wkend-Dancing-Circle-KLJ.png
END:VEVENT
END:VCALENDAR