BEGIN:VCALENDAR
VERSION:2.0
PRODID:-//Lake Champlain Maritime Museum - ECPv6.15.20//NONSGML v1.0//EN
CALSCALE:GREGORIAN
METHOD:PUBLISH
X-WR-CALNAME:Lake Champlain Maritime Museum
X-ORIGINAL-URL:https://www.lcmm.org
X-WR-CALDESC:Events for Lake Champlain Maritime Museum
REFRESH-INTERVAL;VALUE=DURATION:PT1H
X-Robots-Tag:noindex
X-PUBLISHED-TTL:PT1H
BEGIN:VTIMEZONE
TZID:America/New_York
BEGIN:DAYLIGHT
TZOFFSETFROM:-0500
TZOFFSETTO:-0400
TZNAME:EDT
DTSTART:20220313T070000
END:DAYLIGHT
BEGIN:STANDARD
TZOFFSETFROM:-0400
TZOFFSETTO:-0500
TZNAME:EST
DTSTART:20221106T060000
END:STANDARD
BEGIN:DAYLIGHT
TZOFFSETFROM:-0500
TZOFFSETTO:-0400
TZNAME:EDT
DTSTART:20230312T070000
END:DAYLIGHT
BEGIN:STANDARD
TZOFFSETFROM:-0400
TZOFFSETTO:-0500
TZNAME:EST
DTSTART:20231105T060000
END:STANDARD
BEGIN:DAYLIGHT
TZOFFSETFROM:-0500
TZOFFSETTO:-0400
TZNAME:EDT
DTSTART:20240310T070000
END:DAYLIGHT
BEGIN:STANDARD
TZOFFSETFROM:-0400
TZOFFSETTO:-0500
TZNAME:EST
DTSTART:20241103T060000
END:STANDARD
END:VTIMEZONE
BEGIN:VEVENT
DTSTART;TZID=America/New_York:20230814T110000
DTEND;TZID=America/New_York:20230814T120000
DTSTAMP:20260423T090439
CREATED:20230717T200115Z
LAST-MODIFIED:20230717T200118Z
UID:10000684-1692010800-1692014400@www.lcmm.org
SUMMARY:21st Century Developments in Nautical Archaeology
DESCRIPTION:Almost 250 years after the Revolutionary War\, many vessels from the war are no longer present. Yet\, nautical archaeology at historical sites can still uncover new information about important events by using technologies such as remotely operated vehicles (ROVs)\, metal detectors\, and sonar. In this free program\, learn about Revolutionary War events that happened along Lake Champlain and what our research can still teach us about them today. \n\n\n\nAccessibility: Key to Liberty has a wheelchair accessible ramp on the side of the building that points towards the waterfront (near Pine Grove). You can get to the building using either gravel paths or grass\, and if you want to minimize how much time you have to spend on uneven terrain\, you can enter through the Visitor Center right from the parking lot and exit through its other entrance. 
URL:https://www.lcmm.org/event/21st-century-developments-in-nautical-archaeology-2/
LOCATION:Key to Liberty at Lake Champlain Maritime Museum\, 4472 Basin Harbor Road\, Vergennes\, Vermont\, 05491\, United States
CATEGORIES:Archaeology,Free Events,Talking Archaeology
ATTACH;FMTTYPE=image/jpeg:https://www.lcmm.org/wp-content/uploads/2023/06/Web-Calendar-Featured-Image_Nautical-Archaeology.jpg
END:VEVENT
BEGIN:VEVENT
DTSTART;TZID=America/New_York:20230814T130000
DTEND;TZID=America/New_York:20230814T140000
DTSTAMP:20260423T090439
CREATED:20230717T204248Z
LAST-MODIFIED:20230717T204251Z
UID:10000692-1692018000-1692021600@www.lcmm.org
SUMMARY:Museum Overview Tour
DESCRIPTION:There’s a lot to see at the Museum! If you’re wondering where to start\, come along on a free tour of the grounds that covers some of Lake Champlain’s narratives\, from Revolutionary War history to personal and commercial boatbuilding to Prohibition in the region. Tours will begin on the Museum Green. \n\n\n\nAccessibility: This tour will involve travel over gravel paths and grass for about one hour. For a similar program that involves minimal travel\, Collections Corner covers a variety of artifacts from the Museum and can be held in the wheelchair-accessible Visitor Center upon request.
URL:https://www.lcmm.org/event/museum-overview-tour-12/
LOCATION:Lake Champlain Maritime Museum\, 4472 Basin Harbor Rd\, Vergennes\, VT\, 05491\, United States
CATEGORIES:Free Events,Outdoors,Talking Archaeology
ATTACH;FMTTYPE=image/jpeg:https://www.lcmm.org/wp-content/uploads/2022/08/Blog-800x600_Store-blog.jpg
END:VEVENT
BEGIN:VEVENT
DTSTART;TZID=America/New_York:20230814T143000
DTEND;TZID=America/New_York:20230814T153000
DTSTAMP:20260423T090439
CREATED:20230717T175747Z
LAST-MODIFIED:20230717T175748Z
UID:10000670-1692023400-1692027000@www.lcmm.org
SUMMARY:Lois McClure Open Hours
DESCRIPTION:Families on canal boats similar to the Lois McClure would spend the majority of their year on the water\, and now you can get a sense of what canal boat life would be like too! Climb on board this replica of a 1862-class sailing canal boat to learn about the lives and culture of canal boaters\, through artifacts collected from two real 19th century canal boat wrecks. \n\n\n\nAccessibility: The path down to the waterfront is gravelly and steep\, and there is a steep ramp leading up to the Lois McClure. If you are interested in only browsing the artifacts from the two shipwrecks\, contact museumeducator@lcmm.org to set up time for a Lois McClure Collections showing in the wheelchair-accessible Visitor Center.
URL:https://www.lcmm.org/event/lois-mcclure-open-hours-081423pm/
LOCATION:Lake Champlain Maritime Museum\, 4472 Basin Harbor Rd\, Vergennes\, VT\, 05491\, United States
CATEGORIES:Free Events,Outdoors
ATTACH;FMTTYPE=image/jpeg:https://www.lcmm.org/wp-content/uploads/2022/08/Website-800x600_Lois.jpg
END:VEVENT
END:VCALENDAR