BEGIN:VCALENDAR
VERSION:2.0
PRODID:-//Lake Champlain Maritime Museum - ECPv6.15.20//NONSGML v1.0//EN
CALSCALE:GREGORIAN
METHOD:PUBLISH
X-WR-CALNAME:Lake Champlain Maritime Museum
X-ORIGINAL-URL:https://www.lcmm.org
X-WR-CALDESC:Events for Lake Champlain Maritime Museum
REFRESH-INTERVAL;VALUE=DURATION:PT1H
X-Robots-Tag:noindex
X-PUBLISHED-TTL:PT1H
BEGIN:VTIMEZONE
TZID:America/New_York
BEGIN:DAYLIGHT
TZOFFSETFROM:-0500
TZOFFSETTO:-0400
TZNAME:EDT
DTSTART:20220313T070000
END:DAYLIGHT
BEGIN:STANDARD
TZOFFSETFROM:-0400
TZOFFSETTO:-0500
TZNAME:EST
DTSTART:20221106T060000
END:STANDARD
BEGIN:DAYLIGHT
TZOFFSETFROM:-0500
TZOFFSETTO:-0400
TZNAME:EDT
DTSTART:20230312T070000
END:DAYLIGHT
BEGIN:STANDARD
TZOFFSETFROM:-0400
TZOFFSETTO:-0500
TZNAME:EST
DTSTART:20231105T060000
END:STANDARD
BEGIN:DAYLIGHT
TZOFFSETFROM:-0500
TZOFFSETTO:-0400
TZNAME:EDT
DTSTART:20240310T070000
END:DAYLIGHT
BEGIN:STANDARD
TZOFFSETFROM:-0400
TZOFFSETTO:-0500
TZNAME:EST
DTSTART:20241103T060000
END:STANDARD
END:VTIMEZONE
BEGIN:VEVENT
DTSTART;TZID=America/New_York:20230709T100000
DTEND;TZID=America/New_York:20230709T160000
DTSTAMP:20260425T095723
CREATED:20230627T151448Z
LAST-MODIFIED:20230627T151712Z
UID:10000483-1688896800-1688918400@www.lcmm.org
SUMMARY:Philadelphia II Open Hours
DESCRIPTION:Soldiers in the Revolutionary War not only fought on boats\, they also often lived on them for months. Step aboard the Museum’s replica of the Revolutionary War gunboat Philadelphia to explore their living and working conditions\, understand the mechanics of the vessel\, and even row the oars! \n\n\n\nNote: The Philadelphia II is currently on the Museum Green. \n\n\n\nAccessibility: There is a staircase leading up to the boat\, and the boat is in the middle of a grassy area. However\, the rigging and cannon from the Philadelphia II are in the surrounding lawn\, and our volunteer interpreters would be happy to talk about the vessel as well as display props on the lawn.
URL:https://www.lcmm.org/event/philadelphia-ii-open-hours-2/
LOCATION:Lake Champlain Maritime Museum\, 4472 Basin Harbor Rd\, Vergennes\, VT\, 05491\, United States
CATEGORIES:Free Events,Outdoors,Talking Archaeology
ATTACH;FMTTYPE=image/jpeg:https://www.lcmm.org/wp-content/uploads/2023/06/Web-Calendar-Featured-Image_Philadelphia-II-P2.jpg
END:VEVENT
END:VCALENDAR